BEGIN:VCALENDAR
VERSION:2.0
PRODID:SchoolNow
CALSCALE:GREGORIAN
BEGIN:VEVENT
UID:32ca674a-843f-11f0-ab26-0a58a9feac02
DTSTAMP:20250828T184541Z
SUMMARY:CDD Board Meeting - Jun. 2026
LOCATION:SpringHill Suites\,16615 Crosspointe Run\, Land O'Lakes\, FL 34648
URL;VALUE=URI:https://www.palmettoridgecdd.org/calendar/8555085/cdd-board-m
 eeting-jun-2026
DTSTART:20260616T150000Z
DTEND:20260616T160000Z
END:VEVENT
END:VCALENDAR
